BEGIN:VCALENDAR
VERSION:2.0
PRODID:-//eventon.com NONSGML v1.0//EN
CALSCALE:GREGORIAN
METHOD:PUBLISH
BEGIN:VEVENT
UID:69e4f1cf56419
DTSTAMP:20260419T171631
DTSTART:20250512T160000Z
DTEND:20250512T180000Z
TZID:Europe/Berlin
LOCATION:Firmengebäude Burgstraße 3 
SUMMARY:Erstberatung: Heizung &amp; Solar – Ihre Fragen\,  unsere Antworten
DESCRIPTION: Sie denken über eine neue Heizung oder Solarenergie nach\,  sind aber unsicher\,  was wirklich sinnvoll ist?Dann ist unsere Erstberatung genau das Richtige für Sie! In dieser Veranstaltung klären wir:Häufige Vorurteile rund um Heizsysteme und SolartechnikWichtige Fragen\,  die bei der Planung aufkommen – verständlich und praxisnahAktuelle politische Entwicklungen und Förderprogramme\,  die[..]\nhttp://staiger-solar.de/veranstaltung/erstberatung-heizung-solar-ihre-fragen-unsere-antworten-3/
URL:http://staiger-solar.de/veranstaltung/erstberatung-heizung-solar-ihre-fragen-unsere-antworten-3/
END:VEVENT
END:VCALENDAR